BEGIN:VCALENDAR
VERSION:2.0
PRODID:-//wp-events-plugin.com//7.2.3.1//EN
TZID:America/Los_Angeles
X-WR-TIMEZONE:America/Los_Angeles
BEGIN:VEVENT
UID:585@cameonetwork.org
DTSTART;TZID=America/Los_Angeles:20251204T110000
DTEND;TZID=America/Los_Angeles:20251204T120000
DTSTAMP:20251202T202713Z
URL:https://cameonetwork.org/events/entrepreneurship-advantage-virtual-mee
 ting/
SUMMARY:Entrepreneurship Advantage Virtual Meeting
DESCRIPTION:Register Here\n\nJoin us on Thursday\, December 4th at 11:00 AM
  for our final virtual Entrepreneurship Advantage (EA) meeting of 2025!\n\
 nConnect with our Los Angeles community\, network with peers\, and get the
  latest CAMEO updates for the year ahead.\n\nIf you would like to share a 
 program update\, please email Liza Rivera-Gonzalez at lrivera@cameonetwork
 .org.\n\nInvite an LA-serving colleague or friend!
ATTACH;FMTTYPE=image/jpeg:https://cameonetwork.org/wp-content/uploads/2025
 /12/EA-Eventbrite-graphics-435-x-290-px-1.png
CATEGORIES:CAMEO Event
END:VEVENT
BEGIN:VTIMEZONE
TZID:America/Los_Angeles
X-LIC-LOCATION:America/Los_Angeles
BEGIN:STANDARD
DTSTART:20251102T010000
TZOFFSETFROM:-0700
TZOFFSETTO:-0800
TZNAME:PST
END:STANDARD
END:VTIMEZONE
END:VCALENDAR